BEGIN:VCALENDAR
VERSION:2.0
PRODID:-//wp-events-plugin.com//7.2.3.1//EN
TZID:America/Los_Angeles
X-WR-TIMEZONE:America/Los_Angeles
BEGIN:VEVENT
UID:4048@rallyresource.com
DTSTART;TZID=America/Los_Angeles:20260215T070000
DTEND;TZID=America/Los_Angeles:20260215T110000
DTSTAMP:20260108T044610Z
URL:https://rallyresource.com/events/san-francisco-ocean-beach-2026-01-18-
 2026-02-15/
SUMMARY:San Francisco Ocean Beach
DESCRIPTION:Sunday morning get together for\;\nTraditional Hot Rods\, Kusto
 ms\, Vintage Vehicles\, Classics\, Roadster
ATTACH;FMTTYPE=image/jpeg:https://rallyresource.com/wp-content/uploads/202
 3/03/sfob.jpeg
CATEGORIES:Cars and Coffee
LOCATION:San Francisco Ocean Beach\, 1000 Great Hwy\, san francisco\, CA\, 
 94121\, CA - Bay Area\, United States
GEO:37.769957;-122.510814
X-APPLE-STRUCTURED-LOCATION;VALUE=URI;X-ADDRESS=1000 Great Hwy\, san franci
 sco\, CA\, 94121\, CA - Bay Area\, United States;X-APPLE-RADIUS=100;X-TITL
 E=San Francisco Ocean Beach:geo:37.769957,-122.510814
END:VEVENT
BEGIN:VTIMEZONE
TZID:America/Los_Angeles
X-LIC-LOCATION:America/Los_Angeles
BEGIN:STANDARD
DTSTART:20251102T010000
TZOFFSETFROM:-0700
TZOFFSETTO:-0800
TZNAME:PST
END:STANDARD
END:VTIMEZONE
END:VCALENDAR