BEGIN:VCALENDAR
VERSION:2.0
PRODID:-//wp-events-plugin.com//7.2.3.1//EN
TZID:America/Los_Angeles
X-WR-TIMEZONE:America/Los_Angeles
BEGIN:VEVENT
UID:3929@rallyresource.com
DTSTART;TZID=America/Los_Angeles:20250816T083000
DTEND;TZID=America/Los_Angeles:20250816T170000
DTSTAMP:20250816T004702Z
URL:https://rallyresource.com/events/rotax-racing-club-california-launch-d
 ay/
SUMMARY:ROTAX RACING CLUB California Launch Day
DESCRIPTION:This high-energy\, 2-stroke karting event gives new and experie
 nced drivers the opportunity to compete on a world-class track.
ATTACH;FMTTYPE=image/jpeg:https://rallyresource.com/wp-content/uploads/202
 5/08/Rotax-Racing-Club_Fleet_Website-Header_9ed30e20a219a2c3c4642dfef22887
 19.webp
CATEGORIES:Race
LOCATION:Sonoma Raceway\, 29355 Arnold Drive\, Sonoma\, CA\, 95476\, United
  States
GEO:38.156741;-122.452395
X-APPLE-STRUCTURED-LOCATION;VALUE=URI;X-ADDRESS=29355 Arnold Drive\, Sonoma
 \, CA\, 95476\, United States;X-APPLE-RADIUS=100;X-TITLE=Sonoma Raceway:ge
 o:38.156741,-122.452395
END:VEVENT
BEGIN:VTIMEZONE
TZID:America/Los_Angeles
X-LIC-LOCATION:America/Los_Angeles
BEGIN:DAYLIGHT
DTSTART:20250309T030000
TZOFFSETFROM:-0800
TZOFFSETTO:-0700
TZNAME:PDT
END:DAYLIGHT
END:VTIMEZONE
END:VCALENDAR