BEGIN:VCALENDAR
VERSION:2.0
PRODID:-//wp-events-plugin.com//7.2.3.1//EN
TZID:America/Los_Angeles
X-WR-TIMEZONE:America/Los_Angeles
BEGIN:VEVENT
UID:3935@rallyresource.com
DTSTART;TZID=America/Los_Angeles:20251213T080000
DTEND;TZID=America/Los_Angeles:20251213T160000
DTSTAMP:20251029T023037Z
URL:https://rallyresource.com/events/rotax-racing-club-california-champion
 ship-series-round-4/
SUMMARY:Rotax Racing Club California Championship Series Round 4
DESCRIPTION:The Rotax Racing Club California 2025 Championship Series is un
 derway and limited spots remain for the final round. Operated by Formula K
 FX\, this championship series is now an official qualifying event for the 
 new Rotax Racing Club (RRC) International Finals. The winner of the Califo
 rnia Championship Series will receive a free spot in the 2026 Internationa
 l Finals event in Belgium. Join us for Round 4 at Sonoma Raceway\, located
  at 29355 Arnold Drive\, Sonoma\, CA 95476! We provide the karts\, gas and
  tires\; drivers bring their gear! Spectator wristbands are required: $20 
 for adults\, $15 for youth (5–17)\, and free for kids 4 and under\, whic
 h are available to purchase at the event. Drivers can register here: https
 ://formulakfx.com/racing/championship
ATTACH;FMTTYPE=image/jpeg:https://rallyresource.com/wp-content/uploads/202
 5/10/calendar-round-4.jpg
CATEGORIES:Race
LOCATION:Sonoma Raceway Karting Center\, 29355 Arnold Drive\, Soonoma\, CA\
 , 95476\, United States
GEO:38.156741;-122.452395
X-APPLE-STRUCTURED-LOCATION;VALUE=URI;X-ADDRESS=29355 Arnold Drive\, Soonom
 a\, CA\, 95476\, United States;X-APPLE-RADIUS=100;X-TITLE=Sonoma Raceway K
 arting Center:geo:38.156741,-122.452395
END:VEVENT
BEGIN:VTIMEZONE
TZID:America/Los_Angeles
X-LIC-LOCATION:America/Los_Angeles
BEGIN:STANDARD
DTSTART:20251102T010000
TZOFFSETFROM:-0700
TZOFFSETTO:-0800
TZNAME:PST
END:STANDARD
END:VTIMEZONE
END:VCALENDAR