BEGIN:VCALENDAR
VERSION:2.0
PRODID:-//wp-events-plugin.com//7.2.3.1//EN
TZID:America/Los_Angeles
X-WR-TIMEZONE:America/Los_Angeles
BEGIN:VEVENT
UID:3934@rallyresource.com
DTSTART;TZID=America/Los_Angeles:20251115T080000
DTEND;TZID=America/Los_Angeles:20251115T160000
DTSTAMP:20251029T023007Z
URL:https://rallyresource.com/events/rotax-racing-club-california-champion
 ship-series-round-3/
SUMMARY:Rotax Racing Club California Championship Series Round 3
DESCRIPTION:
ATTACH;FMTTYPE=image/jpeg:https://rallyresource.com/wp-content/uploads/202
 5/10/calendar-round-3.jpg
CATEGORIES:Race
LOCATION:Sonoma Raceway Karting Center\, 29355 Arnold Drive\, Sonoma\, CA\,
  95476\, United States
GEO:38.156741;-122.452395
X-APPLE-STRUCTURED-LOCATION;VALUE=URI;X-ADDRESS=29355 Arnold Drive\, Sonoma
 \, CA\, 95476\, United States;X-APPLE-RADIUS=100;X-TITLE=Sonoma Raceway Ka
 rting Center:geo:38.156741,-122.452395
END:VEVENT
BEGIN:VTIMEZONE
TZID:America/Los_Angeles
X-LIC-LOCATION:America/Los_Angeles
BEGIN:STANDARD
DTSTART:20251102T010000
TZOFFSETFROM:-0700
TZOFFSETTO:-0800
TZNAME:PST
END:STANDARD
END:VTIMEZONE
END:VCALENDAR