BEGIN:VCALENDAR
VERSION:2.0
PRODID:-//wp-events-plugin.com//7.2.3.1//EN
TZID:America/Los_Angeles
X-WR-TIMEZONE:America/Los_Angeles
BEGIN:VEVENT
UID:4013@rallyresource.com
DTSTART;TZID=America/Los_Angeles:20261205T080000
DTEND;TZID=America/Los_Angeles:20261205T100000
DTSTAMP:20260108T044033Z
URL:https://rallyresource.com/events/rohnert-park-cars-and-coffee-2026-01-
 03-2026-02-07-2026-03-07-2026-04-04-2026-05-02-2026-06-06-2026-07-04-2026-
 08-01-2026-09-05-2026-10-03-2026-11-07-2026-12-05/
SUMMARY:Rohnert Park Cars and Coffee
DESCRIPTION:Every 1st Saturday of the month.
ATTACH;FMTTYPE=image/jpeg:https://rallyresource.com/wp-content/uploads/202
 3/04/rohnert-park-c-and-c.jpg
CATEGORIES:Cars and Coffee
LOCATION:Rohnert Park Express Way\, 459 Rohnert Park Expressway\, Rohnert P
 ark\, CA\, 94928\, CA - Bay Area\, United States
GEO:38.348455;-122.720851
X-APPLE-STRUCTURED-LOCATION;VALUE=URI;X-ADDRESS=459 Rohnert Park Expressway
 \, Rohnert Park\, CA\, 94928\, CA - Bay Area\, United States;X-APPLE-RADIU
 S=100;X-TITLE=Rohnert Park Express Way:geo:38.348455,-122.720851
END:VEVENT
BEGIN:VTIMEZONE
TZID:America/Los_Angeles
X-LIC-LOCATION:America/Los_Angeles
BEGIN:STANDARD
DTSTART:20261101T010000
TZOFFSETFROM:-0700
TZOFFSETTO:-0800
TZNAME:PST
END:STANDARD
END:VTIMEZONE
END:VCALENDAR