BEGIN:VCALENDAR
VERSION:2.0
PRODID:-//wp-events-plugin.com//7.2.3.1//EN
TZID:America/Los_Angeles
X-WR-TIMEZONE:America/Los_Angeles
BEGIN:VEVENT
UID:3977@rallyresource.com
DTSTART;TZID=America/Los_Angeles:20261219T080000
DTEND;TZID=America/Los_Angeles:20261219T100000
DTSTAMP:20260108T043058Z
URL:https://rallyresource.com/events/pre-stage-2026-01-17-2026-02-21-2026-
 03-21-2026-04-18-2026-05-16-2026-06-20-2026-07-18-2026-08-15-2026-09-19-20
 26-10-17-2026-11-21-2026-12-19/
SUMMARY:Pre-Stage
DESCRIPTION:Cars and coffee for people who don’t dig Cars + Coffees.\nPre
 -Stage is a monthly gathering for driving enthusiasts\, with hyper-local c
 offee (roasted within 3 miles) and pastries served via the Red Whale Coffe
 e truck\, set by the lagoon of the stunning Frank Lloyd Wright-penned mast
 erpiece\, The Marin County Civic Center.\nPre-Stage is held year-round\, f
 rom 8am until 10am\, 3rd Saturday of each month\, rain or shine.
ATTACH;FMTTYPE=image/jpeg:https://rallyresource.com/wp-content/uploads/202
 4/01/Screenshot-2024-01-03-at-20.53.57.jpg
CATEGORIES:Cars and Coffee
LOCATION:Marin County Civic Center\, 3530 Civic Center Drive\, San Rafael\,
  CA\, 94903\, CA - Bay Area\, United States
GEO:37.998209;-122.529018
X-APPLE-STRUCTURED-LOCATION;VALUE=URI;X-ADDRESS=3530 Civic Center Drive\, S
 an Rafael\, CA\, 94903\, CA - Bay Area\, United States;X-APPLE-RADIUS=100;
 X-TITLE=Marin County Civic Center:geo:37.998209,-122.529018
END:VEVENT
BEGIN:VTIMEZONE
TZID:America/Los_Angeles
X-LIC-LOCATION:America/Los_Angeles
BEGIN:STANDARD
DTSTART:20261101T010000
TZOFFSETFROM:-0700
TZOFFSETTO:-0800
TZNAME:PST
END:STANDARD
END:VTIMEZONE
END:VCALENDAR