BEGIN:VCALENDAR
VERSION:2.0
PRODID:-//wp-events-plugin.com//7.2.3.1//EN
TZID:America/Los_Angeles
X-WR-TIMEZONE:America/Los_Angeles
BEGIN:VEVENT
UID:4000@rallyresource.com
DTSTART;TZID=America/Los_Angeles:20261115T080000
DTEND;TZID=America/Los_Angeles:20261115T100000
DTSTAMP:20260108T043548Z
URL:https://rallyresource.com/events/petaluma-cars-and-coffee-2026-01-18-2
 026-02-15-2026-03-15-2026-04-19-2026-05-17-2026-06-21-2026-07-19-2026-08-1
 6-2026-09-20-2026-10-18-2026-11-15/
SUMMARY:Petaluma Cars and Coffee
DESCRIPTION:Casual Monthly Car Show meet up.\nCars and Coffee every 3rd Sun
 day from 8am to 10am.\n\n&nbsp\;
ATTACH;FMTTYPE=image/jpeg:https://rallyresource.com/wp-content/uploads/202
 3/03/307569428_182011184335191_8405615260959600419_n.png
CATEGORIES:Cars and Coffee
LOCATION:Petaluma - Washington Sqaure\, 389 S. McDowell Blvd\, Petaluma\, C
 A\, 94954\, CA - Bay Area\, United States
GEO:38.249127;-122.621917
X-APPLE-STRUCTURED-LOCATION;VALUE=URI;X-ADDRESS=389 S. McDowell Blvd\, Peta
 luma\, CA\, 94954\, CA - Bay Area\, United States;X-APPLE-RADIUS=100;X-TIT
 LE=Petaluma - Washington Sqaure:geo:38.249127,-122.621917
END:VEVENT
BEGIN:VTIMEZONE
TZID:America/Los_Angeles
X-LIC-LOCATION:America/Los_Angeles
BEGIN:STANDARD
DTSTART:20261101T010000
TZOFFSETFROM:-0700
TZOFFSETTO:-0800
TZNAME:PST
END:STANDARD
END:VTIMEZONE
END:VCALENDAR