BEGIN:VCALENDAR
VERSION:2.0
PRODID:-//wp-events-plugin.com//7.2.3.1//EN
TZID:America/Los_Angeles
X-WR-TIMEZONE:America/Los_Angeles
BEGIN:VEVENT
UID:4068@rallyresource.com
DTSTART;TZID=America/Los_Angeles:20261025T080000
DTEND;TZID=America/Los_Angeles:20261025T100000
DTSTAMP:20260108T044729Z
URL:https://rallyresource.com/events/penngrove-cars-and-coffee-2026-01-25-
 2026-02-22-2026-03-22-2026-04-26-2026-05-24-2026-06-28-2026-07-26-2026-08-
 23-2026-09-27-2026-10-25/
SUMMARY:Penngrove Cars and Coffee
DESCRIPTION:Cars and Coffee
ATTACH;FMTTYPE=image/jpeg:https://rallyresource.com/wp-content/uploads/202
 3/03/penngrove-flyer.jpeg
CATEGORIES:Cars and Coffee
LOCATION:Penngrove Market\, 10070 Main St\, Penngrove\, United States
GEO:38.296609;-122.666212
X-APPLE-STRUCTURED-LOCATION;VALUE=URI;X-ADDRESS=10070 Main St\, Penngrove\,
  United States;X-APPLE-RADIUS=100;X-TITLE=Penngrove Market:geo:38.296609,-
 122.666212
END:VEVENT
BEGIN:VTIMEZONE
TZID:America/Los_Angeles
X-LIC-LOCATION:America/Los_Angeles
BEGIN:DAYLIGHT
DTSTART:20260308T030000
TZOFFSETFROM:-0800
TZOFFSETTO:-0700
TZNAME:PDT
END:DAYLIGHT
END:VTIMEZONE
END:VCALENDAR