BEGIN:VCALENDAR
VERSION:2.0
PRODID:-//wp-events-plugin.com//7.2.3.1//EN
TZID:America/Los_Angeles
X-WR-TIMEZONE:America/Los_Angeles
BEGIN:VEVENT
UID:533@rallyresource.com
DTSTART;TZID=America/Los_Angeles:20240608T080000
DTEND;TZID=America/Los_Angeles:20240608T160000
DTSTAMP:20240505T000426Z
URL:https://rallyresource.com/events/peggy-sues-all-american-car-show-crui
 se/
SUMMARY:Peggy Sue's All American Car Show & Cruise
DESCRIPTION:Please join us for the 20th annual Peggy Sue Car Show &amp\; Cr
 uise on June 8th 2024. Hundreds of classic\, stock and custom All-American
  Cars will be on display. Admission to the Show &amp\; Cruise is $10.00 fo
 r the general public\, children 12 and under are free. Parking at the Fair
 grounds for non-registered cars will be $10.00 in Lot B Off of Bennett Val
 ley Rd. There will be vendors\, food\, adult beverages as well as live mus
 ic for the show at The Sonoma County Event Center at the Fairgrounds.\n\nB
 ring your family and chairs to Downtown Santa Rosa to enjoy the cruise for
  FREE. This part of the event will be restricted to registered cars\, the 
 route along 4th and 5th\, Mendocino and B street is the place to be! All p
 arking garages will be open so there will be plenty of parking downtown fo
 r non-registered participants.\n\n**Please note there is No Parking Downto
 wn on the cruise route along 4th and 5th\, Mendocino and B street from 3:0
 0pm - 9:00pm\, All cars will be ticketed and towed if not cleared.**\n\nCr
 uise will be from 5:30pm-8:30pm
ATTACH;FMTTYPE=image/jpeg:https://rallyresource.com/wp-content/uploads/202
 4/05/Screenshot-2024-05-04-at-10.01.36.jpg
CATEGORIES:Car Show,Cruise
END:VEVENT
BEGIN:VTIMEZONE
TZID:America/Los_Angeles
X-LIC-LOCATION:America/Los_Angeles
BEGIN:DAYLIGHT
DTSTART:20240310T030000
TZOFFSETFROM:-0800
TZOFFSETTO:-0700
TZNAME:PDT
END:DAYLIGHT
END:VTIMEZONE
END:VCALENDAR