BEGIN:VCALENDAR
VERSION:2.0
PRODID:-//wp-events-plugin.com//7.2.3.1//EN
TZID:America/Los_Angeles
X-WR-TIMEZONE:America/Los_Angeles
BEGIN:VEVENT
UID:3951@rallyresource.com
DTSTART;TZID=America/Los_Angeles:20261101T063000
DTEND;TZID=America/Los_Angeles:20261101T100000
DTSTAMP:20260108T042534Z
URL:https://rallyresource.com/events/marin-cars-and-coffee-2026-01-04-2026
 -02-01-2026-03-01-2026-04-05-2026-05-03-2026-06-07-2026-07-05-2026-08-02-2
 026-09-06-2026-10-04-2026-11-01/
SUMMARY:Marin Cars and Coffee
DESCRIPTION:\nMarin County Cars and Coffee Traditions\n\nSince 2012\n\n\n\n
 ATTENTION...we are under the watchful eye of the Vintage Oaks Shopping Cen
 ter! BEHAVE!\n\n\n\n1. The first Sunday of every month\, rain or shine\, i
 n front of Starbuck’s in the Vintage Oaks Shopping Center Novato\, Calif
 ornia.\n2. 6:30 am in the morning to 10:00am. Arrive when you want.\n3. Ch
 eck your ego at the stop sign.\n4. Park where you can.\n5. It’s free! Ex
 cluding your Starbuck’s purchases! Please do patronize the local stores!
 \n6. Leave when you want. BUT\, behave yourself! No burnouts\, no running 
 over pedestrians\, no sudden left turns into center dividers. Seriously\, 
 you won’t impress anyone and the other 300+ cars owners will not take ki
 ndly to any attempt you might make to screw up this event.\n7. Photographs
  will be taken of your car. Many of these photographs (including personali
 zed license plates) will find their way to the web.\n8. The Marin Cars and
  Coffee Facebook page posts pictures\, monthly\, that participants may con
 tinue to revel in the experience and to allow others\, who missed attendin
 g\, to fill this void in their lives.\n9. This is a family friendly get-to
 gether.\n10. There is a welcomed police presence (hint\, hint).\n11. Enjoy
  yourself! This is a wonderful assembly of diverse car owning folks! Lots 
 to see and lots to learn!\n
ATTACH;FMTTYPE=image/jpeg:https://rallyresource.com/wp-content/uploads/202
 3/03/marin-cars-and-coffee-logo.jpg
CATEGORIES:Cars and Coffee
LOCATION:Novato - Vintage Oaks\, 132 Vintage Way\, Novato\, CA\, 94945\, CA
  - Bay Area\, United States
GEO:38.090965;-122.554663
X-APPLE-STRUCTURED-LOCATION;VALUE=URI;X-ADDRESS=132 Vintage Way\, Novato\, 
 CA\, 94945\, CA - Bay Area\, United States;X-APPLE-RADIUS=100;X-TITLE=Nova
 to - Vintage Oaks:geo:38.090965,-122.554663
END:VEVENT
BEGIN:VTIMEZONE
TZID:America/Los_Angeles
X-LIC-LOCATION:America/Los_Angeles
BEGIN:STANDARD
DTSTART:20261101T010000
TZOFFSETFROM:-0700
TZOFFSETTO:-0800
TZNAME:PST
END:STANDARD
END:VTIMEZONE
END:VCALENDAR