BEGIN:VCALENDAR
VERSION:2.0
PRODID:-//wp-events-plugin.com//7.2.3.1//EN
TZID:America/Los_Angeles
X-WR-TIMEZONE:America/Los_Angeles
BEGIN:VEVENT
UID:3937@rallyresource.com
DTSTART;TZID=America/Los_Angeles:20260201T073000
DTEND;TZID=America/Los_Angeles:20260201T160000
DTSTAMP:20251208T052958Z
URL:https://rallyresource.com/events/inaugural-art-ingels-memorial-race/
SUMMARY:Inaugural Art Ingels Memorial Race
DESCRIPTION:Formula KFX is set to debut the Art Ingels Memorial Race on Sun
 day\, Feb. 1\, 2026\, a hard-charging mix of endurance and sprint battles 
 to honor the 70th anniversary of Ingels’ invention: the Go-Kart. This al
 l-day “arrive and drive” event will feature 36 teams battling for a $1
 \,500 grand prize and the right to hoist the inaugural trophy bearing Inge
 ls’ name. The three-person teams will compete in an ambitious multi-race
  format at Sonoma Raceway Karting Center—merging endurance grit\, sprint
  precision and team strategy into a single marquee event. Competition is o
 ver to Junior and Senior drivers. Spectator wristbands are required: $20 f
 or adults\, $15 for youth (5-17)\, and free for kids 4 and under\, which a
 re available to purchase at the event. Drivers can register here: https://
 formulakfx.com/art-ingels-memorial/
ATTACH;FMTTYPE=image/jpeg:https://rallyresource.com/wp-content/uploads/202
 5/12/thumbnail-art-ingels.jpg
CATEGORIES:Race
LOCATION:Sonoma Raceway Karting Center\, 29355 Arnold Drive\, Sonoma\, CA\,
  95476\, United States
GEO:38.156741;-122.452395
X-APPLE-STRUCTURED-LOCATION;VALUE=URI;X-ADDRESS=29355 Arnold Drive\, Sonoma
 \, CA\, 95476\, United States;X-APPLE-RADIUS=100;X-TITLE=Sonoma Raceway Ka
 rting Center:geo:38.156741,-122.452395
END:VEVENT
BEGIN:VTIMEZONE
TZID:America/Los_Angeles
X-LIC-LOCATION:America/Los_Angeles
BEGIN:STANDARD
DTSTART:20251102T010000
TZOFFSETFROM:-0700
TZOFFSETTO:-0800
TZNAME:PST
END:STANDARD
END:VTIMEZONE
END:VCALENDAR