BEGIN:VCALENDAR
VERSION:2.0
PRODID:-//wp-events-plugin.com//7.2.3.1//EN
TZID:America/Los_Angeles
X-WR-TIMEZONE:America/Los_Angeles
BEGIN:VEVENT
UID:3938@rallyresource.com
DTSTART;TZID=America/Los_Angeles:20260201T080000
DTEND;TZID=America/Los_Angeles:20260201T120000
DTSTAMP:20260107T215331Z
URL:https://rallyresource.com/events/formula-kfx-pre-season-testing-day/
SUMMARY:Formula KFX Pre-Season Testing Day
DESCRIPTION:
ATTACH;FMTTYPE=image/jpeg:https://rallyresource.com/wp-content/uploads/202
 6/01/2026-season-promo.jpg
CATEGORIES:Race
LOCATION:Sonoma Raceway Karting Center\, 29355 Arnold Drive\, Sonoma\, CA\,
  95476\, United States
GEO:38.156741;-122.452395
X-APPLE-STRUCTURED-LOCATION;VALUE=URI;X-ADDRESS=29355 Arnold Drive\, Sonoma
 \, CA\, 95476\, United States;X-APPLE-RADIUS=100;X-TITLE=Sonoma Raceway Ka
 rting Center:geo:38.156741,-122.452395
END:VEVENT
BEGIN:VTIMEZONE
TZID:America/Los_Angeles
X-LIC-LOCATION:America/Los_Angeles
BEGIN:STANDARD
DTSTART:20251102T010000
TZOFFSETFROM:-0700
TZOFFSETTO:-0800
TZNAME:PST
END:STANDARD
END:VTIMEZONE
END:VCALENDAR