BEGIN:VCALENDAR
VERSION:2.0
PRODID:-//wp-events-plugin.com//7.2.3.1//EN
TZID:America/Los_Angeles
X-WR-TIMEZONE:America/Los_Angeles
BEGIN:VEVENT
UID:3964@rallyresource.com
DTSTART;TZID=America/Los_Angeles:20261107T080000
DTEND;TZID=America/Los_Angeles:20261107T100000
DTSTAMP:20260108T042938Z
URL:https://rallyresource.com/events/benicia-cars-and-coffee-2026-01-03-20
 26-02-07-2026-03-07-2026-04-04-2026-05-02-2026-06-06-2026-07-04-2026-08-01
 -2026-09-05-2026-10-03-2026-11-07/
SUMMARY:Benicia Cars and Coffee
DESCRIPTION:The Benicia Cars and Coffee is the first Saturday of the month 
 from 8am to 10am at Starbucks\, 90 Solano Square.\n\nhope to see all the u
 sual faces and new faces with new rides to show off\, can’t wait to see 
 you all!\n\nThe First Saturday of every month!\n\nCancelled in the case of
  rain.
ATTACH;FMTTYPE=image/jpeg:https://rallyresource.com/wp-content/uploads/202
 3/03/Screenshot-2023-03-05-at-12.50.28-PM.jpg
CATEGORIES:Cars and Coffee
LOCATION:Benicia - Solano Square\, 90 Solano Square\, Benicia\, CA\, 94510\
 , CA - Bay Area\, United States
GEO:38.054212;-122.154181
X-APPLE-STRUCTURED-LOCATION;VALUE=URI;X-ADDRESS=90 Solano Square\, Benicia\
 , CA\, 94510\, CA - Bay Area\, United States;X-APPLE-RADIUS=100;X-TITLE=Be
 nicia - Solano Square:geo:38.054212,-122.154181
END:VEVENT
BEGIN:VTIMEZONE
TZID:America/Los_Angeles
X-LIC-LOCATION:America/Los_Angeles
BEGIN:STANDARD
DTSTART:20261101T010000
TZOFFSETFROM:-0700
TZOFFSETTO:-0800
TZNAME:PST
END:STANDARD
END:VTIMEZONE
END:VCALENDAR