BEGIN:VCALENDAR
VERSION:2.0
PRODID:-//wp-events-plugin.com//7.2.3.1//EN
TZID:America/Los_Angeles
X-WR-TIMEZONE:America/Los_Angeles
BEGIN:VEVENT
UID:3939@rallyresource.com
DTSTART;TZID=America/Los_Angeles:20260214T080000
DTEND;TZID=America/Los_Angeles:20260214T163000
DTSTAMP:20260107T215353Z
URL:https://rallyresource.com/events/2026-rotax-racing-club-california-cha
 mpionship-series-round-1/
SUMMARY:2026 Rotax Racing Club California Championship Series Round 1
DESCRIPTION:The Rotax Racing Club California 2026 Championship Series featu
 res 10 rounds of adrenaline pumping competition on 8 legendary tracks thro
 ughout California and Nevada. This is the only place in the U.S. to qualif
 y for the 2027 Rotax Racing Club International Finals. Operated by Formula
  KFX\, this championship series is open to Juniors (13-18) and Seniors (16
 +). The winner of our series will receive a free spot in the 2027 Rotax Ra
 cing Club International Finals. Join us for Round 1 at Sonoma Raceway\, lo
 cated at 29355 Arnold Drive\, Sonoma\, CA 95476! We provide the karts\; dr
 ivers bring their gear! Spectator wristbands are required: $20 for adults\
 , $15 for youth (5–17)\, and free for kids 4 and under\, which are avail
 able to purchase at the event. Drivers can register here: https://formulak
 fx.com/register/
ATTACH;FMTTYPE=image/jpeg:https://rallyresource.com/wp-content/uploads/202
 6/01/web-enduro-champ.jpg
CATEGORIES:Race
LOCATION:Sonoma Raceway Karting Center\, 29355 Arnold Drive\, Sonoma\, CA\,
  95476\, United States
GEO:38.156741;-122.452395
X-APPLE-STRUCTURED-LOCATION;VALUE=URI;X-ADDRESS=29355 Arnold Drive\, Sonoma
 \, CA\, 95476\, United States;X-APPLE-RADIUS=100;X-TITLE=Sonoma Raceway Ka
 rting Center:geo:38.156741,-122.452395
END:VEVENT
BEGIN:VTIMEZONE
TZID:America/Los_Angeles
X-LIC-LOCATION:America/Los_Angeles
BEGIN:STANDARD
DTSTART:20251102T010000
TZOFFSETFROM:-0700
TZOFFSETTO:-0800
TZNAME:PST
END:STANDARD
END:VTIMEZONE
END:VCALENDAR