BEGIN:VCALENDAR
VERSION:2.0
PRODID:-//wp-events-plugin.com//7.2.3.1//EN
TZID:America/Los_Angeles
X-WR-TIMEZONE:America/Los_Angeles
BEGIN:VEVENT
UID:3940@rallyresource.com
DTSTART;TZID=America/Los_Angeles:20260215T080000
DTEND;TZID=America/Los_Angeles:20260215T130000
DTSTAMP:20260108T042245Z
URL:https://rallyresource.com/events/2026-formula-kfx-endurance-championsh
 ip-round-1/
SUMMARY:2026 Formula KFX Endurance Championship Round 1
DESCRIPTION:Formula KFX is hosting a four-round Endurance Championship Seri
 es in 2026\, bringing arrive-and-drive team racing to venues across Califo
 rnia and Nevada. Teams will compete in one of two divisions: Formula KFX J
 unior (ages 13-18) or Formula KFX Senior (ages 16 and up). Each team consi
 sts of three drivers\, reinforcing the endurance format’s emphasis on sh
 ared responsibility and race management. Staying true to its arrive-and-dr
 ive model\, Formula KFX will supply all karts\, tires and fuel as part of 
 the $695 entry fee (per round)\, eliminating the need for teams to own or 
 maintain equipment. Drivers are required to bring their own helmet\, racin
 g suit\, gloves and shoes. A neck brace is mandatory for all drivers under
  18\, and rib protectors are strongly recommended. The series opens Feb. 1
 5 at Sonoma Raceway Karting Center before moving to Buttonwillow Raceway P
 ark on April 26. Round 3 takes the championship to Northern Nevada Kart Cl
 ub in Reno on June 28\, with the finale scheduled for Aug. 16 at SMKA in S
 anta Maria. Spectator wristbands are required: $20 for adults\, $15 for yo
 uth (5–17)\, and free for kids 4 and under\, which are available to purc
 hase at the event. Drivers can register here: https://formulakfx.com/regis
 ter/
ATTACH;FMTTYPE=image/jpeg:https://rallyresource.com/wp-content/uploads/202
 6/01/enduro-community-calendar.jpg
CATEGORIES:Race
LOCATION:Sonoma Raceway Karting Center\, 29355 Arnold Drive\, Sonoma\, CA\,
  95476\, United States
GEO:38.156741;-122.452395
X-APPLE-STRUCTURED-LOCATION;VALUE=URI;X-ADDRESS=29355 Arnold Drive\, Sonoma
 \, CA\, 95476\, United States;X-APPLE-RADIUS=100;X-TITLE=Sonoma Raceway Ka
 rting Center:geo:38.156741,-122.452395
END:VEVENT
BEGIN:VTIMEZONE
TZID:America/Los_Angeles
X-LIC-LOCATION:America/Los_Angeles
BEGIN:STANDARD
DTSTART:20251102T010000
TZOFFSETFROM:-0700
TZOFFSETTO:-0800
TZNAME:PST
END:STANDARD
END:VTIMEZONE
END:VCALENDAR